BEGIN:VCALENDAR
VERSION:2.0
PRODID:
CALSCALE:GREGORIAN
METHOD:PUBLISH
BEGIN:VTIMEZONE
TZID:America/New_York
BEGIN:STANDARD
DTSTART:19701025T060000
TZOFFSETTO:-0500
TZOFFSETFROM:-0400
RRULE:FREQ=YEARLY;BYMONTH=11;BYDAY=1SU
END:STANDARD
BEGIN:DAYLIGHT
DTSTART:19700426T070000
TZOFFSETTO:-0400
TZOFFSETFROM:-0500
RRULE:FREQ=YEARLY;BYMONTH=3;BYDAY=2SU
END:DAYLIGHT
END:VTIMEZONE
BEGIN:VEVENT
UID:1162
DTSTART:20260420T190000
DTEND:20260420T193000
STATUS:
SUMMARY:Zdrowy Kręgosłup (Obłuże)
DESCRIPTION:
LOCATION;LANGUAGE=pl:Szkoła Podstawowa nr 39, ul. Unruga 88, 81-155 Gdynia
DTSTAMP:20260419T125727Z
ORGANIZER;CN=Gdyńskie centrum sportu;LANGUAGE=pl:
END:VEVENT
END:VCALENDAR
